BEGIN:VCALENDAR
VERSION:2.0
PRODID:-//Bay Area Center for Waldorf Teacher Training - ECPv6.15.17.1//NONSGML v1.0//EN
CALSCALE:GREGORIAN
METHOD:PUBLISH
X-WR-CALNAME:Bay Area Center for Waldorf Teacher Training
X-ORIGINAL-URL:https://www.bacwtt.org
X-WR-CALDESC:Events for Bay Area Center for Waldorf Teacher Training
REFRESH-INTERVAL;VALUE=DURATION:PT1H
X-Robots-Tag:noindex
X-PUBLISHED-TTL:PT1H
BEGIN:VTIMEZONE
TZID:America/Los_Angeles
BEGIN:DAYLIGHT
TZOFFSETFROM:-0800
TZOFFSETTO:-0700
TZNAME:PDT
DTSTART:20230312T100000
END:DAYLIGHT
BEGIN:STANDARD
TZOFFSETFROM:-0700
TZOFFSETTO:-0800
TZNAME:PST
DTSTART:20231105T090000
END:STANDARD
BEGIN:DAYLIGHT
TZOFFSETFROM:-0800
TZOFFSETTO:-0700
TZNAME:PDT
DTSTART:20240310T100000
END:DAYLIGHT
BEGIN:STANDARD
TZOFFSETFROM:-0700
TZOFFSETTO:-0800
TZNAME:PST
DTSTART:20241103T090000
END:STANDARD
BEGIN:DAYLIGHT
TZOFFSETFROM:-0800
TZOFFSETTO:-0700
TZNAME:PDT
DTSTART:20250309T100000
END:DAYLIGHT
BEGIN:STANDARD
TZOFFSETFROM:-0700
TZOFFSETTO:-0800
TZNAME:PST
DTSTART:20251102T090000
END:STANDARD
END:VTIMEZONE
BEGIN:VEVENT
DTSTART;TZID=America/Los_Angeles:20241026T090000
DTEND;TZID=America/Los_Angeles:20241026T160000
DTSTAMP:20260421T043314
CREATED:20240724T143413Z
LAST-MODIFIED:20240906T160630Z
UID:18346-1729933200-1729958400@www.bacwtt.org
SUMMARY:The Work of Becoming a Waldorf Early Childhood Assistant
DESCRIPTION:Join our course this fall to develop your understanding of the artistry and sensitivity needed to build a warm\, safe\, and enlivening space for the young children in your care.Early Childhood assistants must develop the skills to work collegially with their lead teacher to impart beauty and order\, provide wholesome rhythms\, delight the child with rich storytelling\, and create a lively classroom ﬁlled with the mood of work and play. The assistant plays a very important role working with the lead teacher to guide the young child on a path of rightful development.
URL:https://www.bacwtt.org/event/the-work-of-becoming-a-waldorf-early-childhood-assistant-2/
ATTACH;FMTTYPE=image/jpeg:https://www.bacwtt.org/wp-content/uploads/Assistance_Course.jpg
END:VEVENT
BEGIN:VEVENT
DTSTART;TZID=America/Los_Angeles:20241012T090000
DTEND;TZID=America/Los_Angeles:20241012T160000
DTSTAMP:20260421T043314
CREATED:20240724T142035Z
LAST-MODIFIED:20240906T160909Z
UID:18344-1728723600-1728748800@www.bacwtt.org
SUMMARY:The Work of Becoming a Waldorf Early Childhood Assistant
DESCRIPTION:Join our course this fall to develop your understanding of the artistry and sensitivity needed to build a warm\, safe\, and enlivening space for the young children in your care.Early Childhood assistants must develop the skills to work collegially with their lead teacher to impart beauty and order\, provide wholesome rhythms\, delight the child with rich storytelling\, and create a lively classroom ﬁlled with the mood of work and play. The assistant plays a very important role working with the lead teacher to guide the young child on a path of rightful development.
URL:https://www.bacwtt.org/event/the-work-of-becoming-a-waldorf-early-childhood-assistant/
ATTACH;FMTTYPE=image/jpeg:https://www.bacwtt.org/wp-content/uploads/Assistance_Course.jpg
END:VEVENT
BEGIN:VEVENT
DTSTART;TZID=America/Los_Angeles:20241005T100000
DTEND;TZID=America/Los_Angeles:20241005T123000
DTSTAMP:20260421T043314
CREATED:20240724T141023Z
LAST-MODIFIED:20241003T130143Z
UID:18335-1728122400-1728131400@www.bacwtt.org
SUMMARY:Healing Power of Art Program Begins
DESCRIPTION:Discover the healing potential of art through painting\, light and darkness drawing\, sculpture\, and form drawing. Develop your artistic abilities\, build observation skills\, and increase your sensitivity as a foundation for therapeutic artistic practice. The Healing Power of Art program is also a preparation for our 3-year Healing Through Art program.
URL:https://www.bacwtt.org/event/healing-power-of-art-program-begins/
ATTACH;FMTTYPE=image/png:https://www.bacwtt.org/wp-content/uploads/HealingthruArt.png
END:VEVENT
BEGIN:VEVENT
DTSTART;TZID=America/Los_Angeles:20241001T190000
DTEND;TZID=America/Los_Angeles:20241001T200000
DTSTAMP:20260421T043314
CREATED:20240822T162327Z
LAST-MODIFIED:20240826T160616Z
UID:18426-1727809200-1727812800@www.bacwtt.org
SUMMARY:Board Meeting
DESCRIPTION:
URL:https://www.bacwtt.org/event/board-meeting-3/
END:VEVENT
END:VCALENDAR