BEGIN:VCALENDAR
VERSION:2.0
PRODID:-//Bay Area Center for Waldorf Teacher Training - ECPv6.15.17.1//NONSGML v1.0//EN
CALSCALE:GREGORIAN
METHOD:PUBLISH
X-ORIGINAL-URL:https://www.bacwtt.org
X-WR-CALDESC:Events for Bay Area Center for Waldorf Teacher Training
REFRESH-INTERVAL;VALUE=DURATION:PT1H
X-Robots-Tag:noindex
X-PUBLISHED-TTL:PT1H
BEGIN:VTIMEZONE
TZID:America/Los_Angeles
BEGIN:DAYLIGHT
TZOFFSETFROM:-0800
TZOFFSETTO:-0700
TZNAME:PDT
DTSTART:20240310T100000
END:DAYLIGHT
BEGIN:STANDARD
TZOFFSETFROM:-0700
TZOFFSETTO:-0800
TZNAME:PST
DTSTART:20241103T090000
END:STANDARD
BEGIN:DAYLIGHT
TZOFFSETFROM:-0800
TZOFFSETTO:-0700
TZNAME:PDT
DTSTART:20250309T100000
END:DAYLIGHT
BEGIN:STANDARD
TZOFFSETFROM:-0700
TZOFFSETTO:-0800
TZNAME:PST
DTSTART:20251102T090000
END:STANDARD
BEGIN:DAYLIGHT
TZOFFSETFROM:-0800
TZOFFSETTO:-0700
TZNAME:PDT
DTSTART:20260308T100000
END:DAYLIGHT
BEGIN:STANDARD
TZOFFSETFROM:-0700
TZOFFSETTO:-0800
TZNAME:PST
DTSTART:20261101T090000
END:STANDARD
END:VTIMEZONE
BEGIN:VEVENT
DTSTART;TZID=America/Los_Angeles:20250616T000000
DTEND;TZID=America/Los_Angeles:20250711T235959
DTSTAMP:20260420T063930
CREATED:20250122T162840Z
LAST-MODIFIED:20250225T153308Z
UID:19080-1750032000-1752278399@www.bacwtt.org
SUMMARY:Summer Session BACWTT Office Closed
DESCRIPTION:
URL:https://www.bacwtt.org/event/summer-session/
END:VEVENT
BEGIN:VEVENT
DTSTART;TZID=America/Los_Angeles:20250616T080000
DTEND;TZID=America/Los_Angeles:20250620T160000
DTSTAMP:20260420T063930
CREATED:20250228T171115Z
LAST-MODIFIED:20250228T171248Z
UID:19227-1750060800-1750435200@www.bacwtt.org
SUMMARY:Early Childhood Teacher Rejuvenation
DESCRIPTION:Sowing Seeds for LiteracyWith Anjum Mir and Kate Hammond \n\n\n\nChildren unfold capacities for learning in an environment that supports their natural growth. How do we provide opportunities for cognitive learning in early childhood settings? Enlivening activities in the classroom develop persistence\, focus\, and a ripeness for knowledge. During this week together\, we will consider what the foundation for literacy is and how we can build such capacities in our day-to-day work. \n\n\n\nSinging with Christiaan Boele\, Speech with Christine Burke\, and Eurythmy with Karen Gallagher.
URL:https://www.bacwtt.org/event/early-childhood-teacher-rejuvenation/
LOCATION:755 Idylberry Road\, San Rafael\, CA 94903
ATTACH;FMTTYPE=image/png:https://www.bacwtt.org/wp-content/uploads/Hand_Game_Image.png
END:VEVENT
BEGIN:VEVENT
DTSTART;TZID=America/Los_Angeles:20250616T080000
DTEND;TZID=America/Los_Angeles:20250620T163000
DTSTAMP:20260420T063930
CREATED:20250228T171720Z
LAST-MODIFIED:20250228T171722Z
UID:19232-1750060800-1750437000@www.bacwtt.org
SUMMARY:Teacher Rejuvenation: Grades 1-5
DESCRIPTION:Finding Gold – Keeping Afloat! \n\n\n\nExploring new paradigms for health and vitality in class teaching. \n\n\n\nThis year\, we turn our focus toward the need to reassess what we can do to keep ourselves and our children healthy. In a world of overwhelm and distraction\, where do we find our own source of strength and abundance so that we may support the needs of today’s children? What are the Waldorf tools and practices that lie forgotten at the bottom of our backpacks that we can renew and draw upon? \n\n\n\nWe are very happy to have Warren Lee Cohen again this summer leading our lower grades week. Warren will have just graduated his 8th Grade class and will share his experience of self-care\, inner work\, and shaping the life of the class to bring sanity and stability to the young child. \n\n\n\nHe will share his years of experience both as a class teacher and as a former director of the Waldorf teacher training program in Toronto\, Canada. \n\n\n\nOur team of experienced teachers will share their knowledge with each grades track\, ensuring you receive a wide range of perspectives and practical support to help you know where to dig and how to stay afloat in your coming year. \n\n\n\nSinging with Christiaan Boele\, Speech with Christine Burke\, and Eurythmy with Karen Gallagher.
URL:https://www.bacwtt.org/event/teacher-rejuvenation-grades-1-5/
LOCATION:755 Idylberry Road\, San Rafael\, CA 94903
ATTACH;FMTTYPE=image/png:https://www.bacwtt.org/wp-content/uploads/Chalkboard_Drawing_Image.png
END:VEVENT
END:VCALENDAR